BEGIN:VCALENDAR
VERSION:2.0
PRODID:-//Celtia Travel - ECPv4.9.7//NONSGML v1.0//EN
CALSCALE:GREGORIAN
METHOD:PUBLISH
X-WR-CALNAME:Celtia Travel
X-ORIGINAL-URL:https://www.celtiatravel.com
X-WR-CALDESC:Eventos para Celtia Travel
BEGIN:VTIMEZONE
TZID:"Europe/Madrid"
BEGIN:DAYLIGHT
TZOFFSETFROM:+0100
TZOFFSETTO:+0200
TZNAME:CEST
DTSTART:20240331T010000
END:DAYLIGHT
BEGIN:STANDARD
TZOFFSETFROM:+0200
TZOFFSETTO:+0100
TZNAME:CET
DTSTART:20241027T010000
END:STANDARD
END:VTIMEZONE
BEGIN:VEVENT
DTSTART;VALUE=DATE:20240803
DTEND;VALUE=DATE:20240804
DTSTAMP:20260419T155244
CREATED:20240722T070020Z
LAST-MODIFIED:20240802T062747Z
UID:10366-1722643200-1722729599@www.celtiatravel.com
SUMMARY:Camiñadas Saudables 2024: nocturna Medeiros
DESCRIPTION:\nUn ano máis o Concello de Monterrei e a Deputación de Ourense poñen en marcha o programa Circuito de Camiñadas Saudables. Dende Celtia Travel queremos agradecer a confianza depositada en nós para a organización do mesmo unha tempada máis.\n\nAs prazas están completas. Moitas grazas polo voso interese! \nRuta 2 – nocturna Medeiros\nRoteiro e actividade de observación do ceo nocturno no Muro de Medeiros. \n\n\nTempo estimado: 4 horas.\nDificultade: media.\nDistancia: 2 km ida / 2\,5 km volta.\nApto para todos os públicos. Idade mínima 10 anos\, acompañados por un adulto.\n\n\n\nHora de saída: 21.00h\nLugar: Teleclube de Medeiros.\nVer lugar de encontro en Google Maps.\nHora aprox. de finalización: 24.30 horas (aproximadamente).\nO máximo de participantes é de 60 persoas.\nActividade de balde. Necesaria inscrición nesta web.\n\nAo inicio\, antes da ruta de sendeirismo ata o lugar de observación\, haberá petiscos e bebida. \nRecomendacións\n\nRespectar o medio natural sen tirar lixo\, nin danar obxectos que se atopen no percorrido.\nLevar roupa e calzado cómodos e abrigados\, adecuados á metereoloxía e á realización da actividade.\nLevar esterilla ou similar para sentarse no chan\, e manta ou saco de durmir como abrigo.\nLevar lanterna ou frontal.\n\nMáis información no 635482477. \n \n
URL:https://www.celtiatravel.com/evento/caminadas-saudables-2024-medeiros/
LOCATION:Teleclube Medeiros\, 41.90256\, -7.54561
CATEGORIES:Observación ceo nocturno,Sendeirismo
ATTACH;FMTTYPE=image/jpeg:https://www.celtiatravel.com/wp-content/uploads/2024/07/Camiñadas-Saudables-Monterrei-2024-destac.jpg
END:VEVENT
END:VCALENDAR