BEGIN:VCALENDAR
VERSION:2.0
PRODID:-//Celtia Travel - ECPv4.9.7//NONSGML v1.0//EN
CALSCALE:GREGORIAN
METHOD:PUBLISH
X-WR-CALNAME:Celtia Travel
X-ORIGINAL-URL:https://www.celtiatravel.com
X-WR-CALDESC:Eventos para Celtia Travel
BEGIN:VTIMEZONE
TZID:"Europe/Madrid"
BEGIN:DAYLIGHT
TZOFFSETFROM:+0100
TZOFFSETTO:+0200
TZNAME:CEST
DTSTART:20240331T010000
END:DAYLIGHT
BEGIN:STANDARD
TZOFFSETFROM:+0200
TZOFFSETTO:+0100
TZNAME:CET
DTSTART:20241027T010000
END:STANDARD
END:VTIMEZONE
BEGIN:VEVENT
DTSTART;TZID="Europe/Madrid":20240721T090000
DTEND;TZID="Europe/Madrid":20240721T120000
DTSTAMP:20260419T190214
CREATED:20240710T090011Z
LAST-MODIFIED:20240712T114117Z
UID:10354-1721552400-1721563200@www.celtiatravel.com
SUMMARY:Camiñadas Saudables 2024: ruta Monterrei
DESCRIPTION:Un ano máis o Concello de Monterrei e a Deputación de Ourense poñen en marcha o programa Circuito de Camiñadas Saudables. Dende Celtia Travel queremos agradecer a confianza depositada en nós para a organización do mesmo unha tempada máis. \nAs inscricións estarán abertas ata o sábado 20 de xullo ás 23:59 h. \nRuta 1 – Monterrei\nRoteiro Circular: ruta polo alfoz da vila de Monterrei. \n\n\nDistancia: 6 km.\nDificultade: baixa.\nApto para todos os públicos. Menores de 12 anos\, acompañados por un adulto.\nTrack da ruta en Wikiloc: https://es.wikiloc.com/rutas-senderismo/ruta-castelo-de-monterrei-prov-146766868\n\n\n\nHora de saída: 09:00h\nLugar: oficina de turismo do castelo de Monterrei.\nVer lugar de encontro en Google Maps.\nO máximo de participantes é de 50 persoas.\nActividade de balde. Necesaria inscrición.\n\nAo longo do percorrido haberá puntos de avituallamento coa finalidad de prover aos participantes de auga e froita. \nIndicacións\n\nRespectar o medio natural sen tirar lixo\, nin danar obxectos que se atopen no percorrido.\nHidratarse convenintemente.\nUso recomendado de gorro/a\, crema solar e lentes.\nLevar roupa e calzado cómodos.\nRespectar as instrucións da organización.\n\nMáis información no 635482477. \n \n
URL:https://www.celtiatravel.com/evento/caminadas-saudables-2024-ruta-monterrei/
LOCATION:Oficina de Turismo de Monterrei\, 41.9461546\,-7.4482344
CATEGORIES:Sendeirismo
ATTACH;FMTTYPE=image/jpeg:https://www.celtiatravel.com/wp-content/uploads/2024/07/Camiñadas-Saudables-Monterrei-2024-destac.jpg
END:VEVENT
END:VCALENDAR