BEGIN:VCALENDAR
VERSION:2.0
PRODID:-//Celtia Travel - ECPv4.9.7//NONSGML v1.0//EN
CALSCALE:GREGORIAN
METHOD:PUBLISH
X-WR-CALNAME:Celtia Travel
X-ORIGINAL-URL:https://www.celtiatravel.com
X-WR-CALDESC:Eventos para Celtia Travel
BEGIN:VTIMEZONE
TZID:"Europe/Madrid"
BEGIN:DAYLIGHT
TZOFFSETFROM:+0100
TZOFFSETTO:+0200
TZNAME:CEST
DTSTART:20250330T010000
END:DAYLIGHT
BEGIN:STANDARD
TZOFFSETFROM:+0200
TZOFFSETTO:+0100
TZNAME:CET
DTSTART:20251026T010000
END:STANDARD
END:VTIMEZONE
BEGIN:VEVENT
DTSTART;TZID="Europe/Madrid":20250510T100000
DTEND;TZID="Europe/Madrid":20250510T140000
DTSTAMP:20260419T124436
CREATED:20250429T190333Z
LAST-MODIFIED:20250429T193253Z
UID:10700-1746871200-1746885600@www.celtiatravel.com
SUMMARY:Cogomelos de primavera
DESCRIPTION:O concello de Vilar de Santos organiza esta serie de actividades coa intención de pór o foco no valor ambiental da aldea de Saa dentro da área da Reserva da Biosfera Área de Allariz. O proxecto está financiado polo Fondo Europeo Agrícola de Desenvolvemento Rural (Feder)\, a Xunta de Galicia e o Ministerio de Agricultura\, Pesca e Alimentación. \n \nNesta actividade\, aberta a todos os públicos\, faremos un pequeno percorrido na contorna da Aldea de Saa para adentrarnos no mundo dos cogomelos de primavera. Da man dun especialista coñeceremos as especies máis importantes que se dan nesta época e\, finalmente\, degustaremos un petisco a base de cogomelos. \nInscricións abertas ata o venres 9 de maio\, ou ata completar as prazas. \n\n\nCogomelos de primavera na aldea de Saa – 10 maio.\nQuedamos en: aldea de Saa (Vilar de Santos).\nVer punto exacto no mapa: abrir en Google Maps.\nHora de encontro: 10.00 horas.\nHora aprox. de finalización: 14.00 horas (aproximadamente).\n\n\n\nActividade de balde.\nApto para todos os públicos. Nenos recomendado a partir de 6 anos.\nA actividade inclúe seguros de RC e accidentes.\n\nInscricións\n\nNecesaria inscrición nesta web.\nPrazas limitadas a 25 persoas.\n\nRecomendacións\n\nLevar roupa e calzado adecuados para camiñar.\nLevar auga e algo de comida para o descanso.\nRecomendable levar cesta e utensilios para apañar cogomelos.\n\n  \n \n  \n
URL:https://www.celtiatravel.com/evento/cogomelos-de-primavera/
LOCATION:Aldea de Saa\, 42.0928153\,-7.7893573
CATEGORIES:Gastronomía,Natureza
ATTACH;FMTTYPE=image/jpeg:https://www.celtiatravel.com/wp-content/uploads/2025/04/Cantharellus-cibarius-destac.jpg
END:VEVENT
END:VCALENDAR