BEGIN:VCALENDAR
VERSION:2.0
PRODID:-//Celtia Travel - ECPv4.9.7//NONSGML v1.0//EN
CALSCALE:GREGORIAN
METHOD:PUBLISH
X-WR-CALNAME:Celtia Travel
X-ORIGINAL-URL:https://www.celtiatravel.com
X-WR-CALDESC:Eventos para Celtia Travel
BEGIN:VTIMEZONE
TZID:"Europe/Madrid"
BEGIN:DAYLIGHT
TZOFFSETFROM:+0100
TZOFFSETTO:+0200
TZNAME:CEST
DTSTART:20250330T010000
END:DAYLIGHT
BEGIN:STANDARD
TZOFFSETFROM:+0200
TZOFFSETTO:+0100
TZNAME:CET
DTSTART:20251026T010000
END:STANDARD
END:VTIMEZONE
BEGIN:VEVENT
DTSTART;TZID="Europe/Madrid":20251108T090000
DTEND;TZID="Europe/Madrid":20251108T140000
DTSTAMP:20260419T152450
CREATED:20251029T102114Z
LAST-MODIFIED:20251107T104459Z
UID:10781-1762592400-1762610400@www.celtiatravel.com
SUMMARY:Inauguración da Ruta do Canón de O Bibei
DESCRIPTION:O día 8 de novembro o Concello de O Bolo inaugura un percorrido polo val do Bibei entre a aldea de Tuxe e o Santuario das Ermitas. Despois dun duro traballo de recuperación de camiños olvidados dende fai décadas\, recuperáronse estes para gozar da beleza da zona. Percorreremos soutos de castiñeiros\, a antiga ponte Teixeira sobre o Bibei e bancais infinitos antigamente adicados ao cultivo da vide e hoxe retomados polo bosque autóctono. \nAo finalizar quen o desexe poderá visitar o Santuario das Ermitas. \nQuedan 6 prazas. \n\n\nQuedamos en: aparcadoiro da área fluvial de As Ermitas. Deixaremos os coches neste punto e un autobús levaranos ata o punto de inicio en Tuxe\, xa que é unha ruta lineal (inicio nas Bodegas de O Souto).\nVer punto exacto no mapa: abrir en Google Maps.\nHora de encontro: 9.00 h.\nSaída do autobus: 09.15 h (aprox.).\nHora estimada de finalización: 13.30 h (aprox.).\n\n\n\n\nInauguración da Ruta do Canón do Bibei – sábado\, 8 novembro.\nRuta lineal de 7 km.\nDificultade media. A ruta non require moito esforzo físico xa que é en moitos tramos de baixada (acumulado negativo: 620 m.; acumulado positivo: 260 m.). O que sí require atención xa que hai algúns tramos estreitos e é recomendable o uso de bastóns para as baixadas.\n\n\n\nActividade de balde.\nPoden ir nenos/as a partir de 10 anos\, acompañados dun adulto.\nÉ imprescindible inscribirse na web para participar. Prazas limitadas!\n\nRecomendacións\n\nLevar roupa e calzado cómodos\, adecuados á metereoloxía e á realización da actividade.\nRecoméndase o uso de bastóns xa que nos axudarán bastante nas baixadas.\nAínda que haberá avituallamento\, recoméndase levar auga para o percorrido.\n\n  \n \n
URL:https://www.celtiatravel.com/evento/inauguracion-da-ruta-do-canon-do-bibei/
LOCATION:Área fluvial As Ermitas\, 42.2920295\,-7.1357857
CATEGORIES:Sendeirismo
ATTACH;FMTTYPE=image/jpeg:https://www.celtiatravel.com/wp-content/uploads/2025/10/viñedos-en-bancais-ruta-do-canón-do-bibei.jpg
END:VEVENT
END:VCALENDAR