BEGIN:VCALENDAR
VERSION:2.0
PRODID:-//Celtia Travel - ECPv4.9.7//NONSGML v1.0//EN
CALSCALE:GREGORIAN
METHOD:PUBLISH
X-WR-CALNAME:Celtia Travel
X-ORIGINAL-URL:https://www.celtiatravel.com
X-WR-CALDESC:Eventos para Celtia Travel
BEGIN:VTIMEZONE
TZID:"Europe/Madrid"
BEGIN:DAYLIGHT
TZOFFSETFROM:+0100
TZOFFSETTO:+0200
TZNAME:CEST
DTSTART:20240331T010000
END:DAYLIGHT
BEGIN:STANDARD
TZOFFSETFROM:+0200
TZOFFSETTO:+0100
TZNAME:CET
DTSTART:20241027T010000
END:STANDARD
END:VTIMEZONE
BEGIN:VEVENT
DTSTART;VALUE=DATE:20240807
DTEND;VALUE=DATE:20240808
DTSTAMP:20260419T173832
CREATED:20240717T121223Z
LAST-MODIFIED:20240805T153419Z
UID:10378-1722988800-1723075199@www.celtiatravel.com
SUMMARY:Observación astronómica en Bóveda
DESCRIPTION:O concello de Vilar de Barrio promociona esta actividade de observación do ceo nocturno\, que se desenvolverá pola Agrupación Astronómica Rías Baixas. A actividade consistirá nun pequeno petisco e camiñada duns 2\,5 km ata o lugar de observación. Despois do fin da actividade de observación do ceo nocturno\, prevista ás 24:00 h (aproximadamente)\, volveremos a Bóveda tamén camiñando. \nAs prazas están esgotadas. Moitas grazas polo voso interese! \n\n\nObservación ceo nocturno no Monte de Os Castelos de Bóveda (ruta de O Castelo de San Xoan) – 7 agosto.\nQuedamos en: Bar A Chaira\, de Bóveda (Vilar de Barrio).\nVer punto exacto no mapa: abrir en Google Maps.\nHora de encontro: 21.00 horas.\nHora aprox. de finalización: 24.30 horas (aproximadamente).\n\n\n\nActividade de balde.\nNecesaria inscrición nesta web.\nPrazas limitadas!\n\nRecomendacións\n\nLevar roupa e calzado cómodos e abrigados\, adecuados á metereoloxía e á realización da actividade.\nLevar esterilla ou similar para sentarse no chan\, e manta ou saco de durmir como abrigo.\nLanterna.\n\n \n
URL:https://www.celtiatravel.com/evento/observacion-astronomica-en-boveda-2/
LOCATION:Bar A Chaira\, 42.162723\,-7.636753
CATEGORIES:Observación astronómica
ATTACH;FMTTYPE=image/jpeg:https://www.celtiatravel.com/wp-content/uploads/2023/08/astronomia-2023-en-Boveda-destac-web.jpg
END:VEVENT
END:VCALENDAR